BEGIN:VCALENDAR
VERSION:2.0
PRODID:-//Motorveckan - ECPv6.15.18//NONSGML v1.0//EN
CALSCALE:GREGORIAN
METHOD:PUBLISH
X-WR-CALNAME:Motorveckan
X-ORIGINAL-URL:https://motorveckan.se
X-WR-CALDESC:Händelser för Motorveckan
REFRESH-INTERVAL;VALUE=DURATION:PT1H
X-Robots-Tag:noindex
X-PUBLISHED-TTL:PT1H
BEGIN:VTIMEZONE
TZID:Europe/Stockholm
BEGIN:DAYLIGHT
TZOFFSETFROM:+0100
TZOFFSETTO:+0200
TZNAME:CEST
DTSTART:20250330T010000
END:DAYLIGHT
BEGIN:STANDARD
TZOFFSETFROM:+0200
TZOFFSETTO:+0100
TZNAME:CET
DTSTART:20251026T010000
END:STANDARD
BEGIN:DAYLIGHT
TZOFFSETFROM:+0100
TZOFFSETTO:+0200
TZNAME:CEST
DTSTART:20260329T010000
END:DAYLIGHT
BEGIN:STANDARD
TZOFFSETFROM:+0200
TZOFFSETTO:+0100
TZNAME:CET
DTSTART:20261025T010000
END:STANDARD
BEGIN:DAYLIGHT
TZOFFSETFROM:+0100
TZOFFSETTO:+0200
TZNAME:CEST
DTSTART:20270328T010000
END:DAYLIGHT
BEGIN:STANDARD
TZOFFSETFROM:+0200
TZOFFSETTO:+0100
TZNAME:CET
DTSTART:20271031T010000
END:STANDARD
END:VTIMEZONE
BEGIN:VEVENT
DTSTART;TZID=Europe/Stockholm:20260718T100000
DTEND;TZID=Europe/Stockholm:20260718T150000
DTSTAMP:20260421T055735
CREATED:20260329T214930Z
LAST-MODIFIED:20260329T214930Z
UID:11971-1784368800-1784386800@motorveckan.se
SUMMARY:Klassikerträffen
DESCRIPTION:Utställning med klassiska veteranfordon som inte är amerikansk. Med veteranfordon menas fordon som är äldre än 30år eller av annat historiskt intressant värde. \nKom till de natursköna Gammplatsen och prata fordon! \nPriser och pokal i kategorierna Bil\, Moped och Motorcykel.
URL:https://motorveckan.se/program/klassikertraffen-2/
LOCATION:Gammplatsen\, Lycksele\, Gammplatsen\, Lycksele\, Sverige
CATEGORIES:Stillsamt,Utställningar
ATTACH;FMTTYPE=image/jpeg:https://motorveckan.se/wp-content/uploads/2022/07/41829604640_1b14755fcb_c.jpeg
END:VEVENT
BEGIN:VEVENT
DTSTART;TZID=Europe/Stockholm:20260718T150000
DTEND;TZID=Europe/Stockholm:20260718T160000
DTSTAMP:20260421T055735
CREATED:20260409T204740Z
LAST-MODIFIED:20260409T205101Z
UID:12079-1784386800-1784390400@motorveckan.se
SUMMARY:Klassikerrunda - på Campingen
DESCRIPTION:Som ifjol arrangerar Campingen en gemensam runda så att alla får möjligheten att skåda de vackra ekipagen än en gång efter Klassikerträffen. \nCruisingen börjar vid anvisad plats. Mer information och karta kommer publiceras här närmare arrangemanget
URL:https://motorveckan.se/program/klassikerrunda-pa-campingen/
LOCATION:First Camp Ansia\, Lycksele\, Sverige
CATEGORIES:Cruising,Familjevänligt,Stillsamt,Utställningar
ATTACH;FMTTYPE=image/jpeg:https://motorveckan.se/wp-content/uploads/2026/04/54665286941_9a14de2ab2_c.jpg
END:VEVENT
BEGIN:VEVENT
DTSTART;TZID=Europe/Stockholm:20260718T173000
DTEND;TZID=Europe/Stockholm:20260718T200000
DTSTAMP:20260421T055735
CREATED:20260409T203046Z
LAST-MODIFIED:20260409T203622Z
UID:12074-1784395800-1784404800@motorveckan.se
SUMMARY:Drifting och flygande veteraner
DESCRIPTION:Driftingen gör efterlängtad comeback – 18 juli på FlygplatsenEfter flera års uppehåll är driftingen äntligen tillbaka. Den 18 juli fylls flygplatsområdet åter med ljud\, fart och energi. Vi vet att ni har längtat!MotorveckanDC‑3 ”Daisy” besöker LyckseleSamma dag får vi också besök av den historiska DC‑3:an Daisy\, byggd 1943 och fortfarande flygande tack vare ideellt engagemang. När hon inte är i luften står hon statiskt på plattan\, och alla besökare är välkomna att komma nära och se henne på riktigt.Möjlighet att flyga med DaisyDet planeras rundflygningar under dagen för dig som är medlem i Flygande Veteraner. Enligt Transportstyrelsens regler krävs tre månaders medlemskap före flygningen\, vilket innebär att medlemskapet behöver vara registrerat senast 18 april för att du ska kunna delta. [flygandeveteraner.se]Bokning av flygningarBokning sker direkt via Flygande Veteraners hemsida allt eftersom flygningarna publiceras och släpps. Håll därför gärna utkik efter nya tider och uppdateringar. [flygandeveteraner.se]Läs mer och bli medlem: https://flygandeveteraner.se \nKontaktperson: \n\n\n\nJohan Haraldsson 0722058106
URL:https://motorveckan.se/program/drifting-och-flygande-veteraner/
LOCATION:Lycksele Airport\, hedlundavägen\, lycksele\, Sweden
CATEGORIES:Familjevänligt,Tävlingar
ATTACH;FMTTYPE=image/jpeg:https://motorveckan.se/wp-content/uploads/2026/04/43528339202_005514a425_c.jpg
END:VEVENT
BEGIN:VEVENT
DTSTART;TZID=Europe/Stockholm:20260718T190000
DTEND;TZID=Europe/Stockholm:20260718T210000
DTSTAMP:20260421T055735
CREATED:20260409T201543Z
LAST-MODIFIED:20260409T202157Z
UID:12066-1784401200-1784408400@motorveckan.se
SUMMARY:Enduro - kvällsrace!
DESCRIPTION:Fjolårets Motorveckan var rekordvarm i alla anseenden – så i år har Lycksele Motorklubb valt att köra en kvällstävling. När kvällssolen står vid horisonten går starten. \nMer info på lyckselemk.nu \nCecilia Tiger 070-223 44 32
URL:https://motorveckan.se/program/enduro-kvallsrace/
LOCATION:Lycksele Motorstadion\, Motorstadion\, Lycksele\, Sverige
CATEGORIES:Tävlingar
ATTACH;FMTTYPE=image/jpeg:https://motorveckan.se/wp-content/uploads/2025/02/52236159101_26b0a25eab_c.jpg
END:VEVENT
BEGIN:VEVENT
DTSTART;TZID=Europe/Stockholm:20260719T110000
DTEND;TZID=Europe/Stockholm:20260719T190000
DTSTAMP:20260421T055735
CREATED:20260409T205616Z
LAST-MODIFIED:20260409T205703Z
UID:12083-1784458800-1784487600@motorveckan.se
SUMMARY:Cruisingloppis
DESCRIPTION:Dryga 40 utställare ifjol resulterade i att flertalet inte hann med hela rundan – och istället för att döpa om det till Rallyloppis har vi utökat loppistiden till 11-19.00 \nAnmäl din loppisplats på kartan nedan och swisha. \n\n\n\n  \n  \n\n  \n  \n    \n      \n    \n    \n    \n    \n    \n        \n      \n      \n        +Anmäl loppisplats\n\n      \n    \n    \n    \n    \n\n  \n\n\n\n\nKontaktperson: \n\n\n\nVanja Ingvarsson\, 0701752508
URL:https://motorveckan.se/program/cruisingloppis-2/
CATEGORIES:Cruising,Familjevänligt,Stillsamt
ATTACH;FMTTYPE=image/jpeg:https://motorveckan.se/wp-content/uploads/2025/07/686fbcbe762fb-scaled.jpg
END:VEVENT
BEGIN:VEVENT
DTSTART;TZID=Europe/Stockholm:20260722T210000
DTEND;TZID=Europe/Stockholm:20260723T020000
DTSTAMP:20260421T055735
CREATED:20260407T201922Z
LAST-MODIFIED:20260407T203624Z
UID:12040-1784754000-1784772000@motorveckan.se
SUMMARY:After Skoter - Raggarligan
DESCRIPTION:Raggarligan – En Oemotståndlig Kraft på Scenen! \n\nRaggarligan har samlat över 70 miljoner streams på bara två år och fortsätter att rocka Sverige med sina ikoniska hits! Låtar som “Fucked Up” som har varit på Topp 50 Sverige och “Fattar Ingenting” är en låt som hela landet sjunger med i.\nDe levererar alltid EPA-Dunk med fullt ös och en oförglömlig fest. En kväll med Raggarligan är inte bara en konsert – det är en fest där energin är på topp och publiken blir en del av showen.\nLåt torgfesten få den kraftfulla och glädjefyllda atmosfären som bara Raggarligan kan skapa! \nVi Ses i Lycksele – Onsdag 22/7 // Raggarligan
URL:https://motorveckan.se/program/after-skoter-raggarligan/
CATEGORIES:Musikunderhållning
ATTACH;FMTTYPE=image/jpeg:https://motorveckan.se/wp-content/uploads/2026/04/Bild-2.jpg
END:VEVENT
BEGIN:VEVENT
DTSTART;TZID=Europe/Stockholm:20260724T210000
DTEND;TZID=Europe/Stockholm:20260725T020000
DTSTAMP:20260421T055735
CREATED:20260407T203549Z
LAST-MODIFIED:20260409T202357Z
UID:12045-1784926800-1784944800@motorveckan.se
SUMMARY:Countryfest
DESCRIPTION:The Swedish Cowboy – Fredrik Lundman. Norrbottens egna countrystjärna kommer tillsammans Mimi Werner som slutade femma i Mello med låten Aint no Good och fjolårets succé Gareth Nugent och Ellinor Springstrike göra ett stopp med sveriges största countryturné på Torgfesten i Lycksele. Alla ni som gillar Country har en fullproppad kväll att se fram emot!! \n\n\n\n\n 
URL:https://motorveckan.se/program/countryfest/
LOCATION:Torget Lycksele
CATEGORIES:Musikunderhållning
ATTACH;FMTTYPE=image/jpeg:https://motorveckan.se/wp-content/uploads/2026/04/COUNYTRY-FEST-poster-2026.jpg
END:VEVENT
END:VCALENDAR