BEGIN:VCALENDAR
VERSION:2.0
PRODID:-//Motorveckan - ECPv6.15.18//NONSGML v1.0//EN
CALSCALE:GREGORIAN
METHOD:PUBLISH
X-ORIGINAL-URL:https://motorveckan.se
X-WR-CALDESC:Händelser för Motorveckan
REFRESH-INTERVAL;VALUE=DURATION:PT1H
X-Robots-Tag:noindex
X-PUBLISHED-TTL:PT1H
BEGIN:VTIMEZONE
TZID:Europe/Stockholm
BEGIN:DAYLIGHT
TZOFFSETFROM:+0100
TZOFFSETTO:+0200
TZNAME:CEST
DTSTART:20240331T010000
END:DAYLIGHT
BEGIN:STANDARD
TZOFFSETFROM:+0200
TZOFFSETTO:+0100
TZNAME:CET
DTSTART:20241027T010000
END:STANDARD
BEGIN:DAYLIGHT
TZOFFSETFROM:+0100
TZOFFSETTO:+0200
TZNAME:CEST
DTSTART:20250330T010000
END:DAYLIGHT
BEGIN:STANDARD
TZOFFSETFROM:+0200
TZOFFSETTO:+0100
TZNAME:CET
DTSTART:20251026T010000
END:STANDARD
BEGIN:DAYLIGHT
TZOFFSETFROM:+0100
TZOFFSETTO:+0200
TZNAME:CEST
DTSTART:20260329T010000
END:DAYLIGHT
BEGIN:STANDARD
TZOFFSETFROM:+0200
TZOFFSETTO:+0100
TZNAME:CET
DTSTART:20261025T010000
END:STANDARD
END:VTIMEZONE
BEGIN:VEVENT
DTSTART;TZID=Europe/Stockholm:20250724T100000
DTEND;TZID=Europe/Stockholm:20250724T150000
DTSTAMP:20260420T061443
CREATED:20250324T214921Z
LAST-MODIFIED:20250702T191610Z
UID:11263-1753351200-1753369200@motorveckan.se
SUMMARY:E-Power Meet
DESCRIPTION:En utställning enbart för Elfordon som framtidens drivmedel.\nDe kan väl inte ha undgått någon i det här laget att elfordonen är här för att stanna? I takt med att batterierna blir billigare och mer lättillgängliga kommer fler och fler fordon ut på marknaden också.\nIfjol hade vi snöskoter\, en hembyggd moped\, transportfordon och motorcyklar utöver personbilar. \nI år ser vi gärna att vi fick besök av nån som byggt en bil eller kanske något annat kul. \n6.2.5 Områdeskarta Elfordonsutställning Mopedutställning
URL:https://motorveckan.se/program/e-power-meet-2025/
LOCATION:Skolgatan\, Lycksele\, Skolgatan\, Lycksele
CATEGORIES:Stillsamt,Utställningar
ATTACH;FMTTYPE=image/jpeg:https://motorveckan.se/wp-content/uploads/2024/07/E-powemeet2023-_DDSC5654-Foto-Erland-Andersson-scaled-e1742852523183.jpg
END:VEVENT
END:VCALENDAR