BEGIN:VCALENDAR
VERSION:2.0
PRODID:-//Motorveckan - ECPv6.15.18//NONSGML v1.0//EN
CALSCALE:GREGORIAN
METHOD:PUBLISH
X-ORIGINAL-URL:https://motorveckan.se
X-WR-CALDESC:Händelser för Motorveckan
REFRESH-INTERVAL;VALUE=DURATION:PT1H
X-Robots-Tag:noindex
X-PUBLISHED-TTL:PT1H
BEGIN:VTIMEZONE
TZID:Europe/Stockholm
BEGIN:DAYLIGHT
TZOFFSETFROM:+0100
TZOFFSETTO:+0200
TZNAME:CEST
DTSTART:20240331T010000
END:DAYLIGHT
BEGIN:STANDARD
TZOFFSETFROM:+0200
TZOFFSETTO:+0100
TZNAME:CET
DTSTART:20241027T010000
END:STANDARD
BEGIN:DAYLIGHT
TZOFFSETFROM:+0100
TZOFFSETTO:+0200
TZNAME:CEST
DTSTART:20250330T010000
END:DAYLIGHT
BEGIN:STANDARD
TZOFFSETFROM:+0200
TZOFFSETTO:+0100
TZNAME:CET
DTSTART:20251026T010000
END:STANDARD
BEGIN:DAYLIGHT
TZOFFSETFROM:+0100
TZOFFSETTO:+0200
TZNAME:CEST
DTSTART:20260329T010000
END:DAYLIGHT
BEGIN:STANDARD
TZOFFSETFROM:+0200
TZOFFSETTO:+0100
TZNAME:CET
DTSTART:20261025T010000
END:STANDARD
END:VTIMEZONE
BEGIN:VEVENT
DTSTART;TZID=Europe/Stockholm:20250722T100000
DTEND;TZID=Europe/Stockholm:20250722T150000
DTSTAMP:20260420T061444
CREATED:20250422T203145Z
LAST-MODIFIED:20250721T134105Z
UID:11307-1753178400-1753196400@motorveckan.se
SUMMARY:EPA-Träffen
DESCRIPTION:Trianglar! \nEn mycket omtyckt utställning där vi förundas och beundrar epa-byggen. Det är ju faktiskt här många ungdomars fordonsintresse gror och de flesta bilrelaterade felsökningar löses. En epa är en samlingspunkt i sig – både i byggstadiet och som färdigt fordon. Ett fenomen som är här för att stanna. \nUtställning längs hela Skolgatan och kvarteret renen. \nUtställare från 09.00. välkomna!
URL:https://motorveckan.se/program/epa-traffen-2025/
LOCATION:Skolgatan\, Lycksele\, Skolgatan\, Lycksele
CATEGORIES:Stillsamt,Utställningar
ATTACH;FMTTYPE=image/jpeg:https://motorveckan.se/wp-content/uploads/2022/07/48359701497_e2c0064463_c.jpeg
END:VEVENT
END:VCALENDAR