BEGIN:VCALENDAR
VERSION:2.0
PRODID:-//Motorveckan - ECPv6.15.18//NONSGML v1.0//EN
CALSCALE:GREGORIAN
METHOD:PUBLISH
X-WR-CALNAME:Motorveckan
X-ORIGINAL-URL:https://motorveckan.se
X-WR-CALDESC:Händelser för Motorveckan
REFRESH-INTERVAL;VALUE=DURATION:PT1H
X-Robots-Tag:noindex
X-PUBLISHED-TTL:PT1H
BEGIN:VTIMEZONE
TZID:Europe/Stockholm
BEGIN:DAYLIGHT
TZOFFSETFROM:+0100
TZOFFSETTO:+0200
TZNAME:CEST
DTSTART:20240331T010000
END:DAYLIGHT
BEGIN:STANDARD
TZOFFSETFROM:+0200
TZOFFSETTO:+0100
TZNAME:CET
DTSTART:20241027T010000
END:STANDARD
BEGIN:DAYLIGHT
TZOFFSETFROM:+0100
TZOFFSETTO:+0200
TZNAME:CEST
DTSTART:20250330T010000
END:DAYLIGHT
BEGIN:STANDARD
TZOFFSETFROM:+0200
TZOFFSETTO:+0100
TZNAME:CET
DTSTART:20251026T010000
END:STANDARD
BEGIN:DAYLIGHT
TZOFFSETFROM:+0100
TZOFFSETTO:+0200
TZNAME:CEST
DTSTART:20260329T010000
END:DAYLIGHT
BEGIN:STANDARD
TZOFFSETFROM:+0200
TZOFFSETTO:+0100
TZNAME:CET
DTSTART:20261025T010000
END:STANDARD
END:VTIMEZONE
BEGIN:VEVENT
DTSTART;TZID=Europe/Stockholm:20250719T100000
DTEND;TZID=Europe/Stockholm:20250719T150000
DTSTAMP:20260420T061240
CREATED:20250209T221434Z
LAST-MODIFIED:20250702T180018Z
UID:11069-1752919200-1752937200@motorveckan.se
SUMMARY:Klassikerträffen
DESCRIPTION:Klassikerträffen är inte bara en klassiker gällande bilarna på utställningen utan också under Motorveckan! \nEn utställning för bil\, MC och moped. Fordon som är 30 år och äldre\, samt historiskt intressanta fordon. \nDet planeras även ett litet extra evenemang för deltagare i år\, mer info kommer.. \nUtställare                Gratis\nVuxen                      100 kr\nBarn 0-12 år           Gratis\nUngdom 13-18 år  50 kr \nÖVRIG INFORMATION\nEj amerikanska fordon.\nInsläpp av utställare från 08.30.\nVid frågor kontakta Gunilla Holmgren 070-319 24 75
URL:https://motorveckan.se/program/klassikertraffen/
LOCATION:Gammplatsen\, Lycksele\, Gammplatsen\, Lycksele\, Sverige
CATEGORIES:Utställningar
ATTACH;FMTTYPE=image/jpeg:https://motorveckan.se/wp-content/uploads/2022/07/29680207218_31a9b717ec_c.jpeg
END:VEVENT
BEGIN:VEVENT
DTSTART;TZID=Europe/Stockholm:20250719T150000
DTEND;TZID=Europe/Stockholm:20250719T160000
DTSTAMP:20260420T061240
CREATED:20250702T181457Z
LAST-MODIFIED:20250702T181457Z
UID:11717-1752937200-1752940800@motorveckan.se
SUMMARY:Klassikerrundan
DESCRIPTION:När Klassikerträffen avslutats på Gammplatsen har Ansia Camping ordnat så att alla de klassiska fordonen har möjlighet att göra en uppvisningsrunda genom Campingen med möjlighet att stanna för Grillbuffé och livemusik med Donkey Jaw senare under kvällen. \n 
URL:https://motorveckan.se/program/klassikerrundan/
LOCATION:First Camp Ansia\, Lycksele\, Sverige
CATEGORIES:Cruising,Stillsamt,Utställningar
END:VEVENT
END:VCALENDAR