BEGIN:VCALENDAR
VERSION:2.0
PRODID:-//Motorveckan - ECPv6.15.18//NONSGML v1.0//EN
CALSCALE:GREGORIAN
METHOD:PUBLISH
X-ORIGINAL-URL:https://motorveckan.se
X-WR-CALDESC:Händelser för Motorveckan
REFRESH-INTERVAL;VALUE=DURATION:PT1H
X-Robots-Tag:noindex
X-PUBLISHED-TTL:PT1H
BEGIN:VTIMEZONE
TZID:Europe/Stockholm
BEGIN:DAYLIGHT
TZOFFSETFROM:+0100
TZOFFSETTO:+0200
TZNAME:CEST
DTSTART:20240331T010000
END:DAYLIGHT
BEGIN:STANDARD
TZOFFSETFROM:+0200
TZOFFSETTO:+0100
TZNAME:CET
DTSTART:20241027T010000
END:STANDARD
BEGIN:DAYLIGHT
TZOFFSETFROM:+0100
TZOFFSETTO:+0200
TZNAME:CEST
DTSTART:20250330T010000
END:DAYLIGHT
BEGIN:STANDARD
TZOFFSETFROM:+0200
TZOFFSETTO:+0100
TZNAME:CET
DTSTART:20251026T010000
END:STANDARD
BEGIN:DAYLIGHT
TZOFFSETFROM:+0100
TZOFFSETTO:+0200
TZNAME:CEST
DTSTART:20260329T010000
END:DAYLIGHT
BEGIN:STANDARD
TZOFFSETFROM:+0200
TZOFFSETTO:+0100
TZNAME:CET
DTSTART:20261025T010000
END:STANDARD
END:VTIMEZONE
BEGIN:VEVENT
DTSTART;TZID=Europe/Stockholm:20250724T093000
DTEND;TZID=Europe/Stockholm:20250724T163000
DTSTAMP:20260420T095352
CREATED:20250211T192259Z
LAST-MODIFIED:20250702T191449Z
UID:11128-1753349400-1753374600@motorveckan.se
SUMMARY:Rallycross SM
DESCRIPTION:Vi är glada att återigen kunna meddela att Rallycross SM kommer till Motorveckan i Lycksele. Rafflande bataljer och skrikande däck när sveriges elit gör upp på Motorstadion Torsdag den 24 Juli. \nNYHET! XC växer i Rallycross SM. Vi är glada att meddela att XC kommer ingå i hela SM serien för Rallycross 2025.
URL:https://motorveckan.se/program/rallycross-sm/
LOCATION:Lycksele Motorstadion\, Motorstadion\, Lycksele\, Sverige
CATEGORIES:Tävlingar
ATTACH;FMTTYPE=image/jpeg:https://motorveckan.se/wp-content/uploads/2024/07/Rallycross2023-IMG_6432-Foto-Jonatan-Astrom.jpg
END:VEVENT
END:VCALENDAR