BEGIN:VCALENDAR
VERSION:2.0
PRODID:-//Motorveckan - ECPv6.15.18//NONSGML v1.0//EN
CALSCALE:GREGORIAN
METHOD:PUBLISH
X-ORIGINAL-URL:https://motorveckan.se
X-WR-CALDESC:Händelser för Motorveckan
REFRESH-INTERVAL;VALUE=DURATION:PT1H
X-Robots-Tag:noindex
X-PUBLISHED-TTL:PT1H
BEGIN:VTIMEZONE
TZID:Europe/Stockholm
BEGIN:DAYLIGHT
TZOFFSETFROM:+0100
TZOFFSETTO:+0200
TZNAME:CEST
DTSTART:20240331T010000
END:DAYLIGHT
BEGIN:STANDARD
TZOFFSETFROM:+0200
TZOFFSETTO:+0100
TZNAME:CET
DTSTART:20241027T010000
END:STANDARD
BEGIN:DAYLIGHT
TZOFFSETFROM:+0100
TZOFFSETTO:+0200
TZNAME:CEST
DTSTART:20250330T010000
END:DAYLIGHT
BEGIN:STANDARD
TZOFFSETFROM:+0200
TZOFFSETTO:+0100
TZNAME:CET
DTSTART:20251026T010000
END:STANDARD
BEGIN:DAYLIGHT
TZOFFSETFROM:+0100
TZOFFSETTO:+0200
TZNAME:CEST
DTSTART:20260329T010000
END:DAYLIGHT
BEGIN:STANDARD
TZOFFSETFROM:+0200
TZOFFSETTO:+0100
TZNAME:CET
DTSTART:20261025T010000
END:STANDARD
END:VTIMEZONE
BEGIN:VEVENT
DTSTART;TZID=Europe/Stockholm:20250725T100000
DTEND;TZID=Europe/Stockholm:20250725T160000
DTSTAMP:20260421T002720
CREATED:20250423T200724Z
LAST-MODIFIED:20250702T191751Z
UID:11339-1753437600-1753459200@motorveckan.se
SUMMARY:Lyckselerundan
DESCRIPTION:En klassisk tipsrunda arrangerat av Norrlands Motorhistoriker med kluriga frågor längs vägen. \nFyll upp bilen med dina klurigaste vänner och häng med på en fantastiskt trevlig dag. Anmälan öppnar klockan 8.30 vid Biblioteket.
URL:https://motorveckan.se/program/lyckselerundan2025/
LOCATION:Torget Lycksele
CATEGORIES:Cruising,Stillsamt
ATTACH;FMTTYPE=image/jpeg:https://motorveckan.se/wp-content/uploads/2022/07/41829604640_1b14755fcb_c.jpeg
END:VEVENT
BEGIN:VEVENT
DTSTART;TZID=Europe/Stockholm:20250725T180000
DTEND;TZID=Europe/Stockholm:20250725T190000
DTSTAMP:20260421T002720
CREATED:20250604T062305Z
LAST-MODIFIED:20250720T131532Z
UID:11435-1753466400-1753470000@motorveckan.se
SUMMARY:Motorveckans Musikkryss
DESCRIPTION:I väntan på Con Cour De Charme så samlas vi i slänten på egen picknickfilt för en timme Musikkryss \n– ej att förväxlas med Melodikrysset.\nDu behöver alltså vara på plats för att kunna deltaga. Era inskickade kryss rättas under Con cour De Charme och vinnaren utropas när Con couren är slut avslutad. \nKrysset finns både i Motorveckans Magasin och här på hemsidan. \nFotografera/skärmdumpa ert ifyllda kryss och MMS:a till 0706641910 \n \nKlicka här för att komma till Krysset \n  \n \n 
URL:https://motorveckan.se/program/motorveckans-musikkryss2025/
LOCATION:Skolgatan\, Lycksele\, Skolgatan\, Lycksele
CATEGORIES:Musikunderhållning,Stillsamt
END:VEVENT
BEGIN:VEVENT
DTSTART;TZID=Europe/Stockholm:20250725T190000
DTEND;TZID=Europe/Stockholm:20250725T200000
DTSTAMP:20260421T002720
CREATED:20250324T215919Z
LAST-MODIFIED:20250720T131024Z
UID:11267-1753470000-1753473600@motorveckan.se
SUMMARY:Con Cour De Charme
DESCRIPTION:Charmigt eller underhållande. I dessa två kategorier tävlar deltagarna att charma -eller spexa för juryn och publiken och vinna con cour de charme. \nVill du vara med? Se till att anmäla er! \nAnmäl er till jessica@pharaohs.se \nTa chansen att visa upp och berätta lite om era fordon.
URL:https://motorveckan.se/program/con-cour-de-charme-2025/
LOCATION:Skolgatan\, Lycksele\, Skolgatan\, Lycksele
CATEGORIES:Stillsamt,Utställningar
ATTACH;FMTTYPE=image/jpeg:https://motorveckan.se/wp-content/uploads/2022/07/42798042935_3686e2abeb_c.jpeg
ORGANIZER;CN="Pharaohs":MAILTO:jessica@pharaohs.se
END:VEVENT
END:VCALENDAR