BEGIN:VCALENDAR
VERSION:2.0
PRODID:-//Motorveckan - ECPv6.15.18//NONSGML v1.0//EN
CALSCALE:GREGORIAN
METHOD:PUBLISH
X-ORIGINAL-URL:https://motorveckan.se
X-WR-CALDESC:Händelser för Motorveckan
REFRESH-INTERVAL;VALUE=DURATION:PT1H
X-Robots-Tag:noindex
X-PUBLISHED-TTL:PT1H
BEGIN:VTIMEZONE
TZID:Europe/Stockholm
BEGIN:DAYLIGHT
TZOFFSETFROM:+0100
TZOFFSETTO:+0200
TZNAME:CEST
DTSTART:20240331T010000
END:DAYLIGHT
BEGIN:STANDARD
TZOFFSETFROM:+0200
TZOFFSETTO:+0100
TZNAME:CET
DTSTART:20241027T010000
END:STANDARD
BEGIN:DAYLIGHT
TZOFFSETFROM:+0100
TZOFFSETTO:+0200
TZNAME:CEST
DTSTART:20250330T010000
END:DAYLIGHT
BEGIN:STANDARD
TZOFFSETFROM:+0200
TZOFFSETTO:+0100
TZNAME:CET
DTSTART:20251026T010000
END:STANDARD
BEGIN:DAYLIGHT
TZOFFSETFROM:+0100
TZOFFSETTO:+0200
TZNAME:CEST
DTSTART:20260329T010000
END:DAYLIGHT
BEGIN:STANDARD
TZOFFSETFROM:+0200
TZOFFSETTO:+0100
TZNAME:CET
DTSTART:20261025T010000
END:STANDARD
END:VTIMEZONE
BEGIN:VEVENT
DTSTART;VALUE=DATE:20250718
DTEND;VALUE=DATE:20250721
DTSTAMP:20260421T002720
CREATED:20250702T184040Z
LAST-MODIFIED:20250702T184040Z
UID:11728-1752804000-1752976799@motorveckan.se
SUMMARY:Kulturbackens kulturmarknad
DESCRIPTION:På vilka platser läser du helst en bok? Kanske i passagerarsätet? I husvagnen? Eller kanske på en filt i trädgården? Oavsett vart så finns boken alltid där. Den kräver ingenting och ger timmar av underhållning. \nUnder Kulturbackens kulturmarknad finns allt från böcker till livemusik\, lokalproducerad mat samt massor av aktiviteter för barn. \nKulturbackens kulturmarknad 18-19 juli \nVarmt välkomna till en mysig marknad med lokala hantverkare\, butiker\, mat\, musik och aktiviteter. \n  \nMarknaden hittar du på innergården mellan Buddhas café och rosteri och Lycksele Bokhandel. En plats som andas historia och kultur\, mitt i stan! \n  \nLäs mer om evenemanget på vår Facebooksida: Facebook \n  \nVill du boka plats eller veta mer? \nMaila till kulturbackenlycksele@gmail.com
URL:https://motorveckan.se/program/kulturbackens-kulturmarknad/
LOCATION:Torget Lycksele
CATEGORIES:För barn,Stillsamt
END:VEVENT
END:VCALENDAR