BEGIN:VCALENDAR
VERSION:2.0
PRODID:-//Motorveckan - ECPv6.15.18//NONSGML v1.0//EN
CALSCALE:GREGORIAN
METHOD:PUBLISH
X-WR-CALNAME:Motorveckan
X-ORIGINAL-URL:https://motorveckan.se
X-WR-CALDESC:Händelser för Motorveckan
REFRESH-INTERVAL;VALUE=DURATION:PT1H
X-Robots-Tag:noindex
X-PUBLISHED-TTL:PT1H
BEGIN:VTIMEZONE
TZID:Europe/Stockholm
BEGIN:DAYLIGHT
TZOFFSETFROM:+0100
TZOFFSETTO:+0200
TZNAME:CEST
DTSTART:20240331T010000
END:DAYLIGHT
BEGIN:STANDARD
TZOFFSETFROM:+0200
TZOFFSETTO:+0100
TZNAME:CET
DTSTART:20241027T010000
END:STANDARD
BEGIN:DAYLIGHT
TZOFFSETFROM:+0100
TZOFFSETTO:+0200
TZNAME:CEST
DTSTART:20250330T010000
END:DAYLIGHT
BEGIN:STANDARD
TZOFFSETFROM:+0200
TZOFFSETTO:+0100
TZNAME:CET
DTSTART:20251026T010000
END:STANDARD
BEGIN:DAYLIGHT
TZOFFSETFROM:+0100
TZOFFSETTO:+0200
TZNAME:CEST
DTSTART:20260329T010000
END:DAYLIGHT
BEGIN:STANDARD
TZOFFSETFROM:+0200
TZOFFSETTO:+0100
TZNAME:CET
DTSTART:20261025T010000
END:STANDARD
END:VTIMEZONE
BEGIN:VEVENT
DTSTART;TZID=Europe/Stockholm:20250725T180000
DTEND;TZID=Europe/Stockholm:20250725T190000
DTSTAMP:20260420T072740
CREATED:20250604T062305Z
LAST-MODIFIED:20250720T131532Z
UID:11435-1753466400-1753470000@motorveckan.se
SUMMARY:Motorveckans Musikkryss
DESCRIPTION:I väntan på Con Cour De Charme så samlas vi i slänten på egen picknickfilt för en timme Musikkryss \n– ej att förväxlas med Melodikrysset.\nDu behöver alltså vara på plats för att kunna deltaga. Era inskickade kryss rättas under Con cour De Charme och vinnaren utropas när Con couren är slut avslutad. \nKrysset finns både i Motorveckans Magasin och här på hemsidan. \nFotografera/skärmdumpa ert ifyllda kryss och MMS:a till 0706641910 \n \nKlicka här för att komma till Krysset \n  \n \n 
URL:https://motorveckan.se/program/motorveckans-musikkryss2025/
LOCATION:Skolgatan\, Lycksele\, Skolgatan\, Lycksele
CATEGORIES:Musikunderhållning,Stillsamt
END:VEVENT
BEGIN:VEVENT
DTSTART;TZID=Europe/Stockholm:20250725T210000
DTEND;TZID=Europe/Stockholm:20250726T020000
DTSTAMP:20260420T072740
CREATED:20250423T201710Z
LAST-MODIFIED:20250722T193937Z
UID:11346-1753477200-1753495200@motorveckan.se
SUMMARY:Torgfest Fredag Country
DESCRIPTION:Ellinor Springstrike & Gareth Nugent: \nDu får inte missa Ellinor Springstrike och Gareth Nugent på Motorveckan. Deras musik är en blandning av modern country\, rock och pop\, där de levererar både egna låtar och personliga versioner av klassiker.\nTillsammans skapar de en unik och imponerande scennärvaro som garanterat kommer att lyfta stämningen under Torgfesten.\n\n \nWolfman Jack: \nWolfman Jack är tillbaka. Efter mer än 12 års frånvaro är de nu åter igen ute på vägarna som trio. Bandet behöver idag ingen närmare presentation. Mer än 1 000 spelningar runt i Sverige\, fem album och massa roliga samarbeten i bagaget. Musikaliskt är de tillbaka i rötterna där allt startade\, så förvänta er en rejäl dos av Peter Green’s Fleetwood Mac\, John Mayall\, Canned Heat och annat bus!\nBandet består i dag av John Lloyd\, Magnus Schönfeldt och Ulf Andersson.\nWolfman Jack’s back\, baby. \n \nCountry Uffe: \nLyckseles egen countryikon. Country Uffe är en välkänd profil inom svensk countrymusik. Med sin gitarr och karaktäristiska röst har han under många år förgyllt scener runt om i landet med klassiska countrytoner. Men Uffe är mer än så – han är ständigt på jakt efter att hitta essensen i vad svensk country kan låta som.\nUffe är känd för sin förmåga att beröra både den inbitne countryälskaren och den nya lyssnaren. Han är en sann ambassadör för genren och en stolt representant för Lycksele.\nUlf kommer även att agera konferencier under kvällen.\n\nInträde: 250 kronor\nFörköp går att köpa på Sportringen\, Circle K och Motorveckans informationstält.\nÅldersgräns 18 år.
URL:https://motorveckan.se/program/torgfest-fredag/
LOCATION:Torget Lycksele
CATEGORIES:Musikunderhållning
ATTACH;FMTTYPE=image/png:https://motorveckan.se/wp-content/uploads/2025/04/Wolfman-Jack.png
END:VEVENT
END:VCALENDAR