BEGIN:VCALENDAR
VERSION:2.0
PRODID:-//Motorveckan - ECPv6.15.18//NONSGML v1.0//EN
CALSCALE:GREGORIAN
METHOD:PUBLISH
X-ORIGINAL-URL:https://motorveckan.se
X-WR-CALDESC:Händelser för Motorveckan
REFRESH-INTERVAL;VALUE=DURATION:PT1H
X-Robots-Tag:noindex
X-PUBLISHED-TTL:PT1H
BEGIN:VTIMEZONE
TZID:Europe/Stockholm
BEGIN:DAYLIGHT
TZOFFSETFROM:+0100
TZOFFSETTO:+0200
TZNAME:CEST
DTSTART:20240331T010000
END:DAYLIGHT
BEGIN:STANDARD
TZOFFSETFROM:+0200
TZOFFSETTO:+0100
TZNAME:CET
DTSTART:20241027T010000
END:STANDARD
BEGIN:DAYLIGHT
TZOFFSETFROM:+0100
TZOFFSETTO:+0200
TZNAME:CEST
DTSTART:20250330T010000
END:DAYLIGHT
BEGIN:STANDARD
TZOFFSETFROM:+0200
TZOFFSETTO:+0100
TZNAME:CET
DTSTART:20251026T010000
END:STANDARD
BEGIN:DAYLIGHT
TZOFFSETFROM:+0100
TZOFFSETTO:+0200
TZNAME:CEST
DTSTART:20260329T010000
END:DAYLIGHT
BEGIN:STANDARD
TZOFFSETFROM:+0200
TZOFFSETTO:+0100
TZNAME:CET
DTSTART:20261025T010000
END:STANDARD
END:VTIMEZONE
BEGIN:VEVENT
DTSTART;TZID=Europe/Stockholm:20250724T210000
DTEND;TZID=Europe/Stockholm:20250725T020000
DTSTAMP:20260420T072950
CREATED:20250319T205325Z
LAST-MODIFIED:20250722T193913Z
UID:11249-1753390800-1753408800@motorveckan.se
SUMMARY:Torgfesten Torsdag
DESCRIPTION:Hetfieldz: Sveriges vassaste Metallica-tribute\, officiellt godkända av Metallica själva! Räkna med en stenhård resa genom bandets karriär.  \nhttps://www.youtube.com/@hetfieldz \n \nVandelay: Energisk och kompromisslös rock med glimtar av Hellacopters och KISS. \nhttps://www.youtube.com/@vandelay2359 \nInträde: 250 kronor\nFörköp går att köpa på Sportringen\, Circle K och Motorveckans informationstält.\nÅldersgräns 18 år.
URL:https://motorveckan.se/program/torgfesten-torsdag-2025/
LOCATION:Torget Lycksele
CATEGORIES:Musikunderhållning
ATTACH;FMTTYPE=image/png:https://motorveckan.se/wp-content/uploads/2025/03/FB_Event.png
END:VEVENT
END:VCALENDAR