BEGIN:VCALENDAR
VERSION:2.0
PRODID:-//Motorveckan - ECPv6.15.18//NONSGML v1.0//EN
CALSCALE:GREGORIAN
METHOD:PUBLISH
X-WR-CALNAME:Motorveckan
X-ORIGINAL-URL:https://motorveckan.se
X-WR-CALDESC:Händelser för Motorveckan
REFRESH-INTERVAL;VALUE=DURATION:PT1H
X-Robots-Tag:noindex
X-PUBLISHED-TTL:PT1H
BEGIN:VTIMEZONE
TZID:Europe/Stockholm
BEGIN:DAYLIGHT
TZOFFSETFROM:+0100
TZOFFSETTO:+0200
TZNAME:CEST
DTSTART:20240331T010000
END:DAYLIGHT
BEGIN:STANDARD
TZOFFSETFROM:+0200
TZOFFSETTO:+0100
TZNAME:CET
DTSTART:20241027T010000
END:STANDARD
BEGIN:DAYLIGHT
TZOFFSETFROM:+0100
TZOFFSETTO:+0200
TZNAME:CEST
DTSTART:20250330T010000
END:DAYLIGHT
BEGIN:STANDARD
TZOFFSETFROM:+0200
TZOFFSETTO:+0100
TZNAME:CET
DTSTART:20251026T010000
END:STANDARD
BEGIN:DAYLIGHT
TZOFFSETFROM:+0100
TZOFFSETTO:+0200
TZNAME:CEST
DTSTART:20260329T010000
END:DAYLIGHT
BEGIN:STANDARD
TZOFFSETFROM:+0200
TZOFFSETTO:+0100
TZNAME:CET
DTSTART:20261025T010000
END:STANDARD
END:VTIMEZONE
BEGIN:VEVENT
DTSTART;TZID=Europe/Stockholm:20250723T210000
DTEND;TZID=Europe/Stockholm:20250724T020000
DTSTAMP:20260420T072734
CREATED:20250423T202027Z
LAST-MODIFIED:20250722T193804Z
UID:11348-1753304400-1753322400@motorveckan.se
SUMMARY:Torgfest Onsdag Afterskoter
DESCRIPTION:Rivstart: Danspunk från Umeå erövrar Sverige. Rivstart levererar en unik explosion av EDM\, country\, pop och rap – de kallar det ”Hillbilly House” eller ”Danspunk”. De är en genrekrossande mix som skapar härligt kaos.\nRedan 2003 slog Rivstart igenom viralt med ”Vilken jävla träng”. Nu är de tillbaka starkare än någonsin\, med över 160 000+ månatliga lyssnare och 18 miljoner streams på Spotify. Hittar som smittar. Med dängor som ”Norrland”\, ”Alla vill vara kändis” och ”UMEÅ” har de erövrat hela Sverige. Rivstarts smittande energi och sound gör dem till det perfekta soundtracket för alla tillfällen. \n \nErik Meduza & The Barsebäckz: Nytt sound\, klassiska rötter. Erik\, son till legendariske Eddie Meduza\, är redo att ta musikvärlden med storm – på sitt eget sätt. Han skippar sin fars grova språk och siktar på en mer mainstream publik. Farsan fick inte sin Grammis har Erik sagt i en intervju.\nMed samarbeten med 250 Kg Kärlek har Erik byggt en egen låtskatt med hits som ”In i dimman”. Men fans av originalet kan vara lugna\, Eriks konserter blandar nytt med tidlösa Eddie Meduza-hits som ”Rockabilly Rebel” och ”Mera brännvin”.\nMissa inte Erik Meduzas unika sound – en hyllning till arvet och samtiden. \nInträde: 250 kronor\nFörköp går att köpa på Sportringen\, Circle K och Motorveckans informationstält.\nÅldersgräns 18 år.
URL:https://motorveckan.se/program/torgfest-onsdag-afterskoter2025/
LOCATION:Torget Lycksele
CATEGORIES:Musikunderhållning
ATTACH;FMTTYPE=image/jpeg:https://motorveckan.se/wp-content/uploads/2025/04/rivstart_press3_2023.jpg
END:VEVENT
END:VCALENDAR