BEGIN:VCALENDAR
VERSION:2.0
PRODID:-//Motorveckan - ECPv6.15.18//NONSGML v1.0//EN
CALSCALE:GREGORIAN
METHOD:PUBLISH
X-ORIGINAL-URL:https://motorveckan.se
X-WR-CALDESC:Händelser för Motorveckan
REFRESH-INTERVAL;VALUE=DURATION:PT1H
X-Robots-Tag:noindex
X-PUBLISHED-TTL:PT1H
BEGIN:VTIMEZONE
TZID:Europe/Stockholm
BEGIN:DAYLIGHT
TZOFFSETFROM:+0100
TZOFFSETTO:+0200
TZNAME:CEST
DTSTART:20240331T010000
END:DAYLIGHT
BEGIN:STANDARD
TZOFFSETFROM:+0200
TZOFFSETTO:+0100
TZNAME:CET
DTSTART:20241027T010000
END:STANDARD
BEGIN:DAYLIGHT
TZOFFSETFROM:+0100
TZOFFSETTO:+0200
TZNAME:CEST
DTSTART:20250330T010000
END:DAYLIGHT
BEGIN:STANDARD
TZOFFSETFROM:+0200
TZOFFSETTO:+0100
TZNAME:CET
DTSTART:20251026T010000
END:STANDARD
BEGIN:DAYLIGHT
TZOFFSETFROM:+0100
TZOFFSETTO:+0200
TZNAME:CEST
DTSTART:20260329T010000
END:DAYLIGHT
BEGIN:STANDARD
TZOFFSETFROM:+0200
TZOFFSETTO:+0100
TZNAME:CET
DTSTART:20261025T010000
END:STANDARD
END:VTIMEZONE
BEGIN:VEVENT
DTSTART;TZID=Europe/Stockholm:20250726T200000
DTEND;TZID=Europe/Stockholm:20250726T230000
DTSTAMP:20260420T095542
CREATED:20250423T204333Z
LAST-MODIFIED:20250726T110426Z
UID:11361-1753560000-1753570800@motorveckan.se
SUMMARY:All American Cruising
DESCRIPTION:Den stora organiserade Cruisingen i Lycksele. Då de enorma rullande\, mullrande skådeverket visar upp sig runt hela Lycksele stadskärna. \nGlada åskådare längs med vägkanterna och V8-vibrationer i asfalten och musik från Torgfesten i bakgrunden – En riktig höjdarkväll för alla som älskar folkfest och vackra bilar! \nCruisingen är endast avsedd för Amerikanska bilar på grund av platsbrist (och inget annat). Insläppet är vid rondellen Bångvägen – Storgatan \nCrusingen körs enkelriktat medsols.
URL:https://motorveckan.se/program/all-american-cruising2025/
CATEGORIES:Cruising,Utställningar
ATTACH;FMTTYPE=image/jpeg:https://motorveckan.se/wp-content/uploads/2025/04/dsc7365-cruising-scaled.jpg
END:VEVENT
END:VCALENDAR