BEGIN:VCALENDAR
VERSION:2.0
PRODID:-//Motorveckan - ECPv6.15.18//NONSGML v1.0//EN
CALSCALE:GREGORIAN
METHOD:PUBLISH
X-WR-CALNAME:Motorveckan
X-ORIGINAL-URL:https://motorveckan.se
X-WR-CALDESC:Händelser för Motorveckan
REFRESH-INTERVAL;VALUE=DURATION:PT1H
X-Robots-Tag:noindex
X-PUBLISHED-TTL:PT1H
BEGIN:VTIMEZONE
TZID:Europe/Stockholm
BEGIN:DAYLIGHT
TZOFFSETFROM:+0100
TZOFFSETTO:+0200
TZNAME:CEST
DTSTART:20240331T010000
END:DAYLIGHT
BEGIN:STANDARD
TZOFFSETFROM:+0200
TZOFFSETTO:+0100
TZNAME:CET
DTSTART:20241027T010000
END:STANDARD
BEGIN:DAYLIGHT
TZOFFSETFROM:+0100
TZOFFSETTO:+0200
TZNAME:CEST
DTSTART:20250330T010000
END:DAYLIGHT
BEGIN:STANDARD
TZOFFSETFROM:+0200
TZOFFSETTO:+0100
TZNAME:CET
DTSTART:20251026T010000
END:STANDARD
BEGIN:DAYLIGHT
TZOFFSETFROM:+0100
TZOFFSETTO:+0200
TZNAME:CEST
DTSTART:20260329T010000
END:DAYLIGHT
BEGIN:STANDARD
TZOFFSETFROM:+0200
TZOFFSETTO:+0100
TZNAME:CET
DTSTART:20261025T010000
END:STANDARD
END:VTIMEZONE
BEGIN:VEVENT
DTSTART;TZID=Europe/Stockholm:20250723T110000
DTEND;TZID=Europe/Stockholm:20250723T160000
DTSTAMP:20260420T094557
CREATED:20250422T204519Z
LAST-MODIFIED:20250625T164609Z
UID:11311-1753268400-1753286400@motorveckan.se
SUMMARY:Tjejrundan
DESCRIPTION:Utmaningar\, kluriga frågor och tjejer i vackra bilar. \nEn runda för endast tjejer\, pris för tipsrundan samt bästa tidsenliga klädsel till sitt fordon. \nAnmälan öppnar 10.00 vid MB. \nFika ingår i anmälningsavgiften. Anmälningsavgiften gäller per person.
URL:https://motorveckan.se/program/tjejrundan-2025/
LOCATION:Torget Lycksele
CATEGORIES:Cruising,Stillsamt
END:VEVENT
BEGIN:VEVENT
DTSTART;TZID=Europe/Stockholm:20250723T160000
DTEND;TZID=Europe/Stockholm:20250723T210000
DTSTAMP:20260420T094557
CREATED:20250422T204928Z
LAST-MODIFIED:20250701T112511Z
UID:11313-1753286400-1753304400@motorveckan.se
SUMMARY:Blueway Cruising
DESCRIPTION:Vi samlas vid Pharaohs Klubblokal på Bångvägen där vi får veta riktningen för aftonen. Kom ihåg att målet är resan – och huvudsyftet är att umgås! \nSamla ihop dina vänner\, packa picknickkorg och häng med på en klassisk landsvägscruising längs Blåvägen med hemlig destination. \nMat och dryck utlovas\, samt lekar och tävlingar för både barn och vuxna! \n5.4 Områdeskarta Blueway Cruising
URL:https://motorveckan.se/program/blueway-cruising-2025/
LOCATION:Pharaohs\, Bångvägen 29\, Lycksele
CATEGORIES:Cruising
ORGANIZER;CN="Pharaohs":MAILTO:jessica@pharaohs.se
END:VEVENT
END:VCALENDAR