BEGIN:VCALENDAR
VERSION:2.0
PRODID:-//Motorveckan - ECPv6.15.18//NONSGML v1.0//EN
CALSCALE:GREGORIAN
METHOD:PUBLISH
X-ORIGINAL-URL:https://motorveckan.se
X-WR-CALDESC:Händelser för Motorveckan
REFRESH-INTERVAL;VALUE=DURATION:PT1H
X-Robots-Tag:noindex
X-PUBLISHED-TTL:PT1H
BEGIN:VTIMEZONE
TZID:Europe/Stockholm
BEGIN:DAYLIGHT
TZOFFSETFROM:+0100
TZOFFSETTO:+0200
TZNAME:CEST
DTSTART:20240331T010000
END:DAYLIGHT
BEGIN:STANDARD
TZOFFSETFROM:+0200
TZOFFSETTO:+0100
TZNAME:CET
DTSTART:20241027T010000
END:STANDARD
BEGIN:DAYLIGHT
TZOFFSETFROM:+0100
TZOFFSETTO:+0200
TZNAME:CEST
DTSTART:20250330T010000
END:DAYLIGHT
BEGIN:STANDARD
TZOFFSETFROM:+0200
TZOFFSETTO:+0100
TZNAME:CET
DTSTART:20251026T010000
END:STANDARD
BEGIN:DAYLIGHT
TZOFFSETFROM:+0100
TZOFFSETTO:+0200
TZNAME:CEST
DTSTART:20260329T010000
END:DAYLIGHT
BEGIN:STANDARD
TZOFFSETFROM:+0200
TZOFFSETTO:+0100
TZNAME:CET
DTSTART:20261025T010000
END:STANDARD
END:VTIMEZONE
BEGIN:VEVENT
DTSTART;TZID=Europe/Stockholm:20250720T150000
DTEND;TZID=Europe/Stockholm:20250720T190000
DTSTAMP:20260420T094526
CREATED:20250212T230638Z
LAST-MODIFIED:20250627T204907Z
UID:11192-1753023600-1753038000@motorveckan.se
SUMMARY:Cruisingloppis
DESCRIPTION:Cruising och Loppis – En Perfekt Kombination!\nGör dig redo för en eftermiddag där två favoriter möts: cruising och loppis! Det här är det ultimata tillfället att kombinera bilintresset med jakten på unika fynd. Mellan kl. 15.00 och 19.00 kan du strosa runt bland försäljare och upptäcka allt från intressanta kuriosa och bildelar till kläder och andra grejor. \nAtt delta som besökare är förstås helt gratis! Så packa bilen med familj och vänner\, ta med en kartläsare och ge er ut på en härlig upptäcktsfärd. \nSälj på vår interaktiva Karta! \nVill du vara med och sälja dina egna prylar under evenemanget? Det är enkelt! Din plats kommer att markeras på vår digitala karta så att besökarna lätt kan hitta dig. \nFör att anmäla dig som säljare: \n\nSwisha 100 kr till 123 300 54 51\nMärk betalningen med cruisingloppis\nPå kartan nedan och klicka på blå plustecknet i det övre högra hörnet.\nFyll i din adress och det telefonnummer du swishade från.\nGlöm inte att placera ut nålen på kartan där du kommer att stå!\n\nAlla intäkter från anmälningsavgifterna går oavkortat till Lycksele Kvinnojour. \n\n\n\n  \n  \n\n  \n  \n    \n      \n    \n    \n    \n    \n    \n        \n      \n      \n        +Anmäl loppisplats
URL:https://motorveckan.se/program/cruisingloppis/
CATEGORIES:Cruising,Stillsamt
ATTACH;FMTTYPE=image/jpeg:https://motorveckan.se/wp-content/uploads/2025/02/Cruisingloppis2023-_DSC4033-Foto-Erland-Andersson-scaled-e1751056784974.jpg
ORGANIZER;CN="Pharaohs":MAILTO:jessica@pharaohs.se
END:VEVENT
END:VCALENDAR