BEGIN:VCALENDAR
VERSION:2.0
PRODID:-//Motorveckan - ECPv6.15.18//NONSGML v1.0//EN
CALSCALE:GREGORIAN
METHOD:PUBLISH
X-WR-CALNAME:Motorveckan
X-ORIGINAL-URL:https://motorveckan.se
X-WR-CALDESC:Händelser för Motorveckan
REFRESH-INTERVAL;VALUE=DURATION:PT1H
X-Robots-Tag:noindex
X-PUBLISHED-TTL:PT1H
BEGIN:VTIMEZONE
TZID:Europe/Stockholm
BEGIN:DAYLIGHT
TZOFFSETFROM:+0100
TZOFFSETTO:+0200
TZNAME:CEST
DTSTART:20240331T010000
END:DAYLIGHT
BEGIN:STANDARD
TZOFFSETFROM:+0200
TZOFFSETTO:+0100
TZNAME:CET
DTSTART:20241027T010000
END:STANDARD
BEGIN:DAYLIGHT
TZOFFSETFROM:+0100
TZOFFSETTO:+0200
TZNAME:CEST
DTSTART:20250330T010000
END:DAYLIGHT
BEGIN:STANDARD
TZOFFSETFROM:+0200
TZOFFSETTO:+0100
TZNAME:CET
DTSTART:20251026T010000
END:STANDARD
BEGIN:DAYLIGHT
TZOFFSETFROM:+0100
TZOFFSETTO:+0200
TZNAME:CEST
DTSTART:20260329T010000
END:DAYLIGHT
BEGIN:STANDARD
TZOFFSETFROM:+0200
TZOFFSETTO:+0100
TZNAME:CET
DTSTART:20261025T010000
END:STANDARD
END:VTIMEZONE
BEGIN:VEVENT
DTSTART;TZID=Europe/Stockholm:20250722T100000
DTEND;TZID=Europe/Stockholm:20250722T170000
DTSTAMP:20260420T042149
CREATED:20250422T204213Z
LAST-MODIFIED:20250627T223538Z
UID:11309-1753178400-1753203600@motorveckan.se
SUMMARY:Folkrace - Motorveckanracet
DESCRIPTION:Motorveckanracet i Folkrace. Lika folkligt som namnet antyder – och Motorveckanracet brukar vara välbesökt av såväl tävlande som publik. \nFår vi se nån gammal racingräv damma av sin gamla Saab? Eller är det kanske nån ny stjärna som lyckats skrämma liv i en riktig vinnar-Volvo? Allt kan hända och allt kan vända (bokstavligen). \n..och när dammet lagt sig och sista budet lagt preppas banan om för Rallycross. \nDet är på Motorstadion det händer! \nhttps://lots.sbf.se/Public/Pages/CompetitionInformation/CompetitionInformation.aspx?CompetitionId=14897 \n4.5 Områdeskarta Folkrace Motorstadion
URL:https://motorveckan.se/program/folkrace/
LOCATION:Lycksele Motorstadion\, Motorstadion\, Lycksele\, Sverige
CATEGORIES:Tävlingar
ATTACH;FMTTYPE=image/jpeg:https://motorveckan.se/wp-content/uploads/2024/07/Folkrace2023-folk033-Foto-Katrina-Greenwood-e1721078267340.jpg
END:VEVENT
END:VCALENDAR